BEGIN:VCALENDAR
VERSION:2.0
PRODID:-//wp-events-plugin.com//7.2.2.1//EN
BEGIN:VEVENT
UID:286@vivid-curls.de
DTSTART;TZID=Europe/Berlin:20240915T113000
DTEND;TZID=Europe/Berlin:20240915T134500
DTSTAMP:20240702T121808Z
URL:https://www.vivid-curls.de/events/bergstation-kanzelwand-kleinwalserta
 l-rietzlern/
SUMMARY:Bergstation - Kanzelwand - Kleinwalsertal (Rietzlern)
DESCRIPTION:Es ist quasi schon Tradition und doch immer wieder einzigartig\
 , beeindruckend und ganz besonders auf der Kanzelwand-Bergstation zu spiel
 en!\n\nWir freuen uns riesig auf unser Konzert auf der Kanzelwand\, hoffen
  auf gutes Wetter und dass ihr auch in diesem Jahr wieder dabei sein werde
 t.\n\nDer Eintritt ist frei und um 11:30 Uhr geht´s los.\n\nIrene &amp\; 
 Inka
ATTACH;FMTTYPE=image/jpeg:https://www.vivid-curls.de/wp-content/uploads/20
 24/03/klein-NEU_Druck_Final_CD_Digipack.jpg
CATEGORIES:Konzerte
LOCATION:Bergstation\, Walserstraße 264\, Riezlern\, Deutschland
GEO:47.3424491;10.1671047
X-APPLE-STRUCTURED-LOCATION;VALUE=URI;X-ADDRESS=Walserstraße 264\, Riezler
 n\, Deutschland;X-APPLE-RADIUS=100;X-TITLE=Bergstation:geo:47.3424491,10.1
 671047
END:VEVENT
BEGIN:VTIMEZONE
TZID:Europe/Berlin
X-LIC-LOCATION:Europe/Berlin
BEGIN:DAYLIGHT
DTSTART:20240331T030000
TZOFFSETFROM:+0100
TZOFFSETTO:+0200
TZNAME:CEST
END:DAYLIGHT
END:VTIMEZONE
END:VCALENDAR