BEGIN:VCALENDAR
VERSION:2.0
PRODID:-//wp-events-plugin.com//7.2.2.1//EN
BEGIN:VEVENT
UID:295@vivid-curls.de
DTSTART;TZID=Europe/Berlin:20250803T113000
DTEND;TZID=Europe/Berlin:20250803T140000
DTSTAMP:20250409T103145Z
URL:https://www.vivid-curls.de/events/bergstation-kanzelwand-4/
SUMMARY:Bergstation - Kanzelwand
DESCRIPTION:Es ist fast schon Tradition und mittlerweile gibt es einige tre
 ue Vivid Curls Fans\, die regelmäßig mit dabei sind...\n\nWir hoffen auf
  gutes Wetter und freuen uns schon riesig hoch oben auf dem Berg für euch
  zu spielen.\n\nIrene &amp\; Inka
ATTACH;FMTTYPE=image/jpeg:https://www.vivid-curls.de/wp-content/uploads/20
 17/02/39Y9339-e1490191915759.jpg
CATEGORIES:Konzerte
LOCATION:Bergstation Kanzelwand\, Walserstr. 264\, Hirschegg\, 87567\, Deut
 schland
GEO:47.3425985;10.167230399999994
X-APPLE-STRUCTURED-LOCATION;VALUE=URI;X-ADDRESS=Walserstr. 264\, Hirschegg\
 , 87567\, Deutschland;X-APPLE-RADIUS=100;X-TITLE=Bergstation Kanzelwand:ge
 o:47.3425985,10.167230399999994
END:VEVENT
BEGIN:VTIMEZONE
TZID:Europe/Berlin
X-LIC-LOCATION:Europe/Berlin
BEGIN:DAYLIGHT
DTSTART:20250330T030000
TZOFFSETFROM:+0100
TZOFFSETTO:+0200
TZNAME:CEST
END:DAYLIGHT
END:VTIMEZONE
END:VCALENDAR