BEGIN:VCALENDAR
VERSION:2.0
PRODID:-//wp-events-plugin.com//7.2.2.1//EN
BEGIN:VEVENT
UID:315@vivid-curls.de
DTSTART;TZID=Europe/Berlin:20260418T193000
DTEND;TZID=Europe/Berlin:20260418T220000
DTSTAMP:20251202T184427Z
URL:https://www.vivid-curls.de/events/bauernschule-bad-waldsee-sounds-of-s
 ilence/
SUMMARY:Bauernschule - Bad Waldsee - SOUNDS OF SILENCE
DESCRIPTION:Wir spielen die Songs von Simon &amp\; Garfunkel\, Fleetwood Ma
 c\, Carole King\, Dolly Parton\, Sting\, Peter Gabriel...Songs\, die unver
 gesslich sind und die wir immer lieben werden!\n\nWir laden euch ein\, kom
 mt mit uns mit - wir drehen die Zeit zurück!\n\nVVK und weitere Infos: ww
 w.bauernschule.de
ATTACH;FMTTYPE=image/jpeg:https://www.vivid-curls.de/wp-content/uploads/20
 25/09/DSC_1738.jpg
CATEGORIES:Konzerte
LOCATION:Bauernschule Bad Waldsee\, Frauenbergstraße 15\, Bad Waldsee\, 88
 339\, Deutschland
X-APPLE-STRUCTURED-LOCATION;VALUE=URI;X-ADDRESS=Frauenbergstraße 15\, Bad 
 Waldsee\, 88339\, Deutschland;X-APPLE-RADIUS=100;X-TITLE=Bauernschule Bad 
 Waldsee:geo:0,0
END:VEVENT
BEGIN:VTIMEZONE
TZID:Europe/Berlin
X-LIC-LOCATION:Europe/Berlin
BEGIN:DAYLIGHT
DTSTART:20260329T030000
TZOFFSETFROM:+0100
TZOFFSETTO:+0200
TZNAME:CEST
END:DAYLIGHT
END:VTIMEZONE
END:VCALENDAR