BEGIN:VCALENDAR
VERSION:2.0
PRODID:-//wp-events-plugin.com//7.2.2.1//EN
BEGIN:VEVENT
UID:276@vivid-curls.de
DTSTART;TZID=Europe/Berlin:20241109T203000
DTEND;TZID=Europe/Berlin:20241109T224500
DTSTAMP:20240910T102129Z
URL:https://www.vivid-curls.de/events/bastion-kirchheim-unter-teck/
SUMMARY:Bastion - Kirchheim unter Teck - mit Band
DESCRIPTION:NOCH IMMER - 22 Jahre Vivid Curls\n\nUnsere Konzerte sind ein m
 oderner Trip zurück in die Zeit handgemachter\, ehrlicher Gitarrenmusik\,
  gänsehauttreibendem Harmoniegesang\, Tiefgang\, Vision und Lebensfreude.
 \n\n22 Jahre machen es uns zum Anliegen zurückzublicken:\n\nEs war eine i
 ntensive und bewegte Zeit\, voller Leidenschaft für die Musik\, voller "K
 inder\, Küche und Karriere"\, voller Höhenflüge und Tiefschläge und do
 ch immer wundervoll gewesene 22 Jahre.\n\nWir lassen euch an unseren Gesch
 ichten aus dem Leben\, an unseren Träumen\, geplatzten und erfüllten\, t
 eilhaben und laden euch ein zu einem Abend mit den bedeutendsten Vivid Cur
 ls Songs und Liedern von unserem neuen Album NOCH IMMER.\n\nWir spielen mi
 t unserer fantastischen Band und freuen uns schon sehr auf ein Wiedersehen
  in der Bastion.\n\nKarten und weitere Infos findet ihr hier: www.club-bas
 tion.de oder Tel.: 07021/480319\n\nhttps://club-bastion.de/\n\nhttps://clu
 b-bastion.de/index.php?id=14&amp\;no_cache=1&amp\;tx_ckclubdata_pi1%5Bshow
 Uid%5D=627&amp\;tx_ckclubdata_pi1%5Bdate%5D=202401&amp\;tx_ckclubdata_pi1%
 5Baction%5D=detail&amp\;tx_ckclubdata_pi1%5Bcontroller%5D=Club&amp\;cHash=
 06bda1bdcd7667107aaf3dda9eed43f1\n\nhttps://partnershop.easyticket.de/f98c
 47bdb7115d00c908ed1d5a23116a/?etsPage=detail-97756\n\nIrene &amp\; Inka
ATTACH;FMTTYPE=image/jpeg:https://www.vivid-curls.de/wp-content/uploads/20
 24/03/20231105_072145_679-scaled.jpg
CATEGORIES:Konzerte
LOCATION:Club Bastion\, Max-Eyth-Str. 59\, Kirchheim unter Teck\, 73230\, D
 eutschland
GEO:48.6484009;9.453585799999928
X-APPLE-STRUCTURED-LOCATION;VALUE=URI;X-ADDRESS=Max-Eyth-Str. 59\, Kirchhei
 m unter Teck\, 73230\, Deutschland;X-APPLE-RADIUS=100;X-TITLE=Club Bastion
 :geo:48.6484009,9.453585799999928
END:VEVENT
BEGIN:VTIMEZONE
TZID:Europe/Berlin
X-LIC-LOCATION:Europe/Berlin
BEGIN:STANDARD
DTSTART:20241027T020000
TZOFFSETFROM:+0200
TZOFFSETTO:+0100
TZNAME:CET
END:STANDARD
END:VTIMEZONE
END:VCALENDAR