BEGIN:VCALENDAR
VERSION:2.0
PRODID:-//wp-events-plugin.com//7.2.2.1//EN
BEGIN:VEVENT
UID:41@vivid-curls.de
DTSTART:20170809T180000Z
DTEND:20170809T210000Z
DTSTAMP:20170510T083210Z
URL:https://www.vivid-curls.de/events/altstadtfest-also-leutkirch/
SUMMARY:Altstadtfest ALSO - Leutkirch
DESCRIPTION:Bandkonzert mit Markus Wohner\, Helmuth Baumann und Florian Hir
 le\n\nTickets und weitere Infos unter: www.also-leutkirch.de
ATTACH;FMTTYPE=image/jpeg:https://www.vivid-curls.de/wp-content/uploads/20
 16/11/KORNHAUS_2016_IMG_3391-scaled.jpg
CATEGORIES:Bandkonzert
LOCATION:Marktplatz Leutkirch\, Marktplatz\, Leutkirch\, Deutschland
GEO:47.8265438;10.02416459999995
X-APPLE-STRUCTURED-LOCATION;VALUE=URI;X-ADDRESS=Marktplatz\, Leutkirch\, De
 utschland;X-APPLE-RADIUS=100;X-TITLE=Marktplatz Leutkirch:geo:47.8265438,1
 0.02416459999995
END:VEVENT
END:VCALENDAR