BEGIN:VCALENDAR
VERSION:2.0
PRODID:-//wp-events-plugin.com//7.2.2.1//EN
BEGIN:VEVENT
UID:265@vivid-curls.de
DTSTART;TZID=Africa/Abidjan:20240503T200000
DTEND;TZID=Africa/Abidjan:20240503T221500
DTSTAMP:20240404T141051Z
URL:https://www.vivid-curls.de/events/allgaeu-keramik-rebstock-altstaetten
 /
SUMMARY:Allgäu Keramik - Rebstock - Altstätten
DESCRIPTION:NOCH IMMER - 22 Jahre Vivid Curls\n\nUnsere Konzerte sind ein m
 oderner Trip zurück in die Zeit handgemachter\, ehrlicher Gitarrenmusik\,
  gänsehauttreibendem Harmoniegesang\, Tiefgang\, Vision und Lebensfreude.
 \n\n22 Jahre machen es uns zum Anliegen zurückzublicken:\n\nEs war eine i
 ntensive und bewegte Zeit\, voller Leidenschaft für die Musik\, voller "K
 inder\, Küche und Karriere"\, voller Höhenflüge und Tiefschläge und do
 ch immer wundervoll gewesene 22 Jahre.\n\nWir lassen euch an unseren Gesch
 ichten aus dem Leben\, an unseren Träumen\, geplatzten und erfüllten\, t
 eilhaben und laden euch ein zu einem Abend mit den bedeutendsten Vivid Cur
 ls Songs und Liedern von unserem neuen Album NOCH IMMER.\n\nKarten und wei
 tere Infos: 0 83 21/34 54 oder kontakt@allgaeuer-keramik.de\n\n&nbsp\;\n\n
 Irene &amp\; Inka
ATTACH;FMTTYPE=image/jpeg:https://www.vivid-curls.de/wp-content/uploads/20
 23/07/BBA_Vivid_Curls049-scaled.jpg
CATEGORIES:Konzerte
LOCATION:Allgäuer Keramik Rebstock\, Töpferstr. 16\, Altstädten\, Deutsc
 hland
GEO:47.5161161;10.2808617
X-APPLE-STRUCTURED-LOCATION;VALUE=URI;X-ADDRESS=Töpferstr. 16\, Altstädte
 n\, Deutschland;X-APPLE-RADIUS=100;X-TITLE=Allgäuer Keramik Rebstock:geo:
 47.5161161,10.2808617
END:VEVENT
BEGIN:VTIMEZONE
TZID:Africa/Abidjan
X-LIC-LOCATION:Africa/Abidjan
BEGIN:STANDARD
DTSTART:20230504T200000
TZOFFSETFROM:+0000
TZOFFSETTO:+0000
TZNAME:GMT
END:STANDARD
END:VTIMEZONE
END:VCALENDAR